BEGIN:VCALENDAR
VERSION:2.0
CALSCALE:GREGORIAN
METHOD:PUBLISH
PRODID://SIBO//49152
BEGIN:VEVENT
DTSTAMP:20260419T130134
VTIMEZONE:America/Los_Angeles
DTSTART:20260516T180000Z
DTEND:20260516T210000Z
UID:49152
SUMMARY:SPRING FLING SENIOR LUNCHEON
LOCATION:, CA
DESCRIPTION:SPRING FLING SENIOR LUNCHEON\n\n05/16/26 11:00 AM PST\n - 05/16/26 02:00 PM PST\Description:\nSPRING FLING Senior Luncheon May 16, 11 a.m. - 2 p.m. hosted at Veterans Hall, 449 W. Sierra Str., Portola. Rotary Club of Portola.
X-ALT-DESC;FMTTYPE=text/html:SPRING FLING SENIOR LUNCHEON<br /><br />05/16/26 11:00 AM PST - 05/16/26 02:00 PM PST<br />Description:<br />SPRING FLING Senior Luncheon May 16, 11 a.m. - 2 p.m. hosted at Veterans Hall, 449 W. Sierra Str., Portola. Rotary Club of Portola.
PRIORITY:3
TRANSP:TRANSPARENT
BEGIN:VALARM
TRIGGER:-PT5M
ACTION:DISPLAY
DESCRIPTION:Reminder
END:VALARM
END:VEVENT
END:VCALENDAR
