BEGIN:VCALENDAR
VERSION:2.0
CALSCALE:GREGORIAN
METHOD:PUBLISH
PRODID://SIBO//49151
BEGIN:VEVENT
DTSTAMP:20260419T131137
VTIMEZONE:America/Los_Angeles
DTSTART:20260516T143000Z
DTEND:20260516T190000Z
UID:49151
SUMMARY:JR. FISHING DERBY AT GRAEAGLE MILL POND MAY 16
LOCATION:, CA
DESCRIPTION:JR. FISHING DERBY AT GRAEAGLE MILL POND MAY 16\n\n05/16/26 07:30 AM PST\n - 05/16/26 12:00 PM PST\Description:\nJunior Fishing Derby at Graeagle Mill Pond, Saturday, May 16. 7:30 - 12 noon. Must be under age 16.  By the Trout Unlimited Graeagle Chapter.
X-ALT-DESC;FMTTYPE=text/html:JR. FISHING DERBY AT GRAEAGLE MILL POND MAY 16<br /><br />05/16/26 07:30 AM PST - 05/16/26 12:00 PM PST<br />Description:<br />Junior Fishing Derby at Graeagle Mill Pond, Saturday, May 16. 7:30 - 12 noon. Must be under age 16. &nbsp;By the Trout Unlimited Graeagle Chapter.
PRIORITY:3
TRANSP:TRANSPARENT
BEGIN:VALARM
TRIGGER:-PT5M
ACTION:DISPLAY
DESCRIPTION:Reminder
END:VALARM
END:VEVENT
END:VCALENDAR
