BEGIN:VCALENDAR
VERSION:2.0
CALSCALE:GREGORIAN
METHOD:PUBLISH
PRODID://SIBO//49150
BEGIN:VEVENT
DTSTAMP:20260419T130242
VTIMEZONE:America/Los_Angeles
DTSTART:20260510T010000Z
DTEND:20260510T030000Z
UID:49150
SUMMARY:DOWNIEVILLE MOUNTAIN MUSIC
LOCATION:, CA
DESCRIPTION:DOWNIEVILLE MOUNTAIN MUSIC\n\n05/09/26 06:00 PM PST\n - 05/09/26 08:00 PM PST\Description:\nDOWNIEVILLE MOUNTAIN MUSIC May 9 at Yuba Theatre, 6 p.m. $40 advance; $50 at the door. www.DownievilleMountainMusic.com
X-ALT-DESC;FMTTYPE=text/html:DOWNIEVILLE MOUNTAIN MUSIC<br /><br />05/09/26 06:00 PM PST - 05/09/26 08:00 PM PST<br />Description:<br />DOWNIEVILLE MOUNTAIN MUSIC May 9 at Yuba Theatre, 6 p.m. $40 advance; $50 at the door. www.DownievilleMountainMusic.com
PRIORITY:3
TRANSP:TRANSPARENT
BEGIN:VALARM
TRIGGER:-PT5M
ACTION:DISPLAY
DESCRIPTION:Reminder
END:VALARM
END:VEVENT
END:VCALENDAR
