BEGIN:VCALENDAR
VERSION:2.0
CALSCALE:GREGORIAN
METHOD:PUBLISH
PRODID://SIBO//49149
BEGIN:VEVENT
DTSTAMP:20260419T130329
VTIMEZONE:America/Los_Angeles
DTSTART:20260502T160000Z
DTEND:20260502T230000Z
UID:49149
SUMMARY:LITTLE LEAGUE OPENER AND FAMILY FUN DAY - Coming May 2nd!!!!
LOCATION:, CA
DESCRIPTION:LITTLE LEAGUE OPENER AND FAMILY FUN DAY - Coming May 2nd!!!!\n\n05/02/26 09:00 AM PST\n - 05/02/26 04:00 PM PST\Description:\n2026 Little League Season! Saturday May 2nd Opening Ceremonies, a BBQ, raffles, auctions, and local vendors, marking the start of the season at Loyalton City Park.\nFAMILY FUN DAY in collaboration with Little League’s Opening Day May 2! Inviting organizations to host booths! Contact High Sierras Family Resource Center, (530) 993-1110;  csandau@highsierrasfrc.org (775) 354-8433 or cpotter@highsierrasfrc.org
X-ALT-DESC;FMTTYPE=text/html:LITTLE LEAGUE OPENER AND FAMILY FUN DAY - Coming May 2nd!!!!<br /><br />05/02/26 09:00 AM PST - 05/02/26 04:00 PM PST<br />Description:<br />2026 Little League Season! Saturday May 2nd Opening Ceremonies, a BBQ, raffles, auctions, and local vendors, marking the start of the season at Loyalton City Park.<br />
FAMILY FUN DAY in collaboration with Little League&rsquo;s Opening Day May 2! Inviting organizations to host booths! Contact High Sierras Family Resource Center, (530) 993-1110; &nbsp;csandau@highsierrasfrc.org (775) 354-8433 or cpotter@highsierrasfrc.org
PRIORITY:3
TRANSP:TRANSPARENT
BEGIN:VALARM
TRIGGER:-PT5M
ACTION:DISPLAY
DESCRIPTION:Reminder
END:VALARM
END:VEVENT
END:VCALENDAR
