BEGIN:VCALENDAR
VERSION:2.0
CALSCALE:GREGORIAN
METHOD:PUBLISH
PRODID://SIBO//49148
BEGIN:VEVENT
DTSTAMP:20260419T131306
VTIMEZONE:America/Los_Angeles
DTSTART:20260425T010000Z
DTEND:20260425T030000Z
UID:49148
SUMMARY:SCIENCE TECHNOLOGY ENGINEERING MATH NIGHT
LOCATION:, CA
DESCRIPTION:SCIENCE TECHNOLOGY ENGINEERING MATH NIGHT\n\n04/24/26 06:00 PM PST\n - 04/24/26 08:00 PM PST\Description:\nSCIENCE TECHNOLOGY ENGINEERING MATH NIGHT April 24th at Loyalton HIgh School, 6-8 p.m. Free admission.\nUNR Cognitive Sciences will have real brains and fun demonstrations to trick your brain!\nLive reptile experience!\nWhat owls eat.....dissect an owl pellet, solve bird related puzzles and games........all about memory loss!
X-ALT-DESC;FMTTYPE=text/html:SCIENCE TECHNOLOGY ENGINEERING MATH NIGHT<br /><br />04/24/26 06:00 PM PST - 04/24/26 08:00 PM PST<br />Description:<br />SCIENCE TECHNOLOGY ENGINEERING MATH NIGHT April 24th at Loyalton HIgh School, 6-8 p.m. Free admission.<br />
UNR Cognitive Sciences will have real brains and fun demonstrations to trick your brain!<br />
Live reptile experience!<br />
What owls eat.....dissect an owl pellet, solve bird related puzzles and games........all about memory loss!
PRIORITY:3
TRANSP:TRANSPARENT
BEGIN:VALARM
TRIGGER:-PT5M
ACTION:DISPLAY
DESCRIPTION:Reminder
END:VALARM
END:VEVENT
END:VCALENDAR
