BEGIN:VCALENDAR
VERSION:2.0
CALSCALE:GREGORIAN
METHOD:PUBLISH
PRODID://SIBO//49147
BEGIN:VEVENT
DTSTAMP:20260419T130818
VTIMEZONE:America/Los_Angeles
DTSTART:20260425T170000Z
DTEND:20260426T000000Z
UID:49147
SUMMARY:ROOTS & BOOTS FAMILY DAY  APRIL 25
LOCATION:, CA
DESCRIPTION:ROOTS & BOOTS FAMILY DAY  APRIL 25\n\n04/25/26 10:00 AM PST\n - 04/25/26 05:00 PM PST\Description:\nMusica Sierra & The Sierra Schools Foundation present Roots & Boots Family Day April 25, 2026: Sierra Valley Birds – Play. Discover. Create., inviting families in Loyalton and the Sierra Valley to a fun, hands-on outdoor event. Blending science, art, music, and nature journaling, the program encourages curiosity about local ecosystems while bringing the community together
X-ALT-DESC;FMTTYPE=text/html:ROOTS & BOOTS FAMILY DAY  APRIL 25<br /><br />04/25/26 10:00 AM PST - 04/25/26 05:00 PM PST<br />Description:<br />Musica Sierra &amp; The Sierra Schools Foundation present Roots &amp; Boots Family Day April 25, 2026: Sierra Valley Birds &ndash; Play. Discover. Create., inviting families in Loyalton and the Sierra Valley to a fun, hands-on outdoor event. Blending science, art, music, and nature journaling, the program encourages curiosity about local ecosystems while bringing the community together
PRIORITY:3
TRANSP:TRANSPARENT
BEGIN:VALARM
TRIGGER:-PT5M
ACTION:DISPLAY
DESCRIPTION:Reminder
END:VALARM
END:VEVENT
END:VCALENDAR
