BEGIN:VCALENDAR
VERSION:2.0
CALSCALE:GREGORIAN
METHOD:PUBLISH
PRODID://REOL//48802
BEGIN:VEVENT
DTSTAMP:20260420T163019
VTIMEZONE:America/New_York
DTSTART:20260302T133000Z
DTEND:20260302T143000Z
UID:48802
SUMMARY:Field Trip LOCATION - Turkey Creek REO 8:30am
LOCATION:Bryant Blackwelders built home, 119 Arnold Rd , Kingston, TN, 37763
DESCRIPTION:Field Trip LOCATION - Turkey Creek REO 8:30am\n\n03/02/26 08:30 AM EST\n - 03/02/26 09:30 AM EST\Description:\nThis weeks meeting is at a one of Bryant Blackwelders built homes.  119 Arnold Rd Kingston TN, 37763 \Location:\nBryant Blackwelders built home\n119 Arnold Rd \nKingston, TN 37763
X-ALT-DESC;FMTTYPE=text/html:Field Trip LOCATION - Turkey Creek REO 8:30am<br /><br />03/02/26 08:30 AM EST - 03/02/26 09:30 AM EST<br />Description:<br />This weeks meeting is at a one of Bryant Blackwelders built homes.&nbsp; 119 Arnold Rd Kingston TN, 37763&nbsp;<br />Location:<br />Bryant Blackwelders built home<br />119 Arnold Rd <br />Kingston, TN 37763
PRIORITY:3
TRANSP:TRANSPARENT
BEGIN:VALARM
TRIGGER:-PT5M
ACTION:DISPLAY
DESCRIPTION:Reminder
END:VALARM
END:VEVENT
END:VCALENDAR
