BEGIN:VCALENDAR
VERSION:2.0
CALSCALE:GREGORIAN
METHOD:PUBLISH
PRODID://REOL//48731
BEGIN:VEVENT
DTSTAMP:20260421T084022
VTIMEZONE:America/New_York
DTSTART:20260206T130000Z
DTEND:20260206T143000Z
UID:48731
SUMMARY:PIN REO Team Meeting: LOCATION CHANGE
LOCATION:Pinnacle Financial Partners, 1111 N Northshore Drive, Knoxville , TN, 37919
DESCRIPTION:PIN REO Team Meeting: LOCATION CHANGE\n\n02/06/26 08:00 AM EST\n - 02/06/26 09:30 AM EST\Description:\nPartners In Networking Weekly Meeting - IN PERSON\nLocation change\Location:\nPinnacle Financial Partners\n1111 N Northshore Drive\nKnoxville , TN 37919
X-ALT-DESC;FMTTYPE=text/html:PIN REO Team Meeting: LOCATION CHANGE<br /><br />02/06/26 08:00 AM EST - 02/06/26 09:30 AM EST<br />Description:<br />Partners In Networking Weekly Meeting - <u><strong>IN PERSON<br />
Location change</strong></u><br />Location:<br />Pinnacle Financial Partners<br />1111 N Northshore Drive<br />Knoxville , TN 37919
PRIORITY:3
TRANSP:TRANSPARENT
BEGIN:VALARM
TRIGGER:-PT5M
ACTION:DISPLAY
DESCRIPTION:Reminder
END:VALARM
END:VEVENT
END:VCALENDAR
