BEGIN:VCALENDAR
VERSION:2.0
CALSCALE:GREGORIAN
METHOD:PUBLISH
PRODID://REOL//48688
BEGIN:VEVENT
DTSTAMP:20260420T200742
VTIMEZONE:America/New_York
DTSTART:20260202T133000Z
DTEND:20260202T143000Z
UID:48688
SUMMARY:CANCELD due to weather -Turkey Creek REO 8:30am @ Old National Bank
LOCATION:Old National Bank, 10820 Kingston Pike Suite 14 , Knoxville, TN, 37934
DESCRIPTION:CANCELD due to weather -Turkey Creek REO 8:30am @ Old National Bank\n\n02/02/26 08:30 AM EST\n - 02/02/26 09:30 AM EST\Description:\nCANCELD due to weather -Weekly meeting at OLD National Bank 10820 Kingston Pike Suite 14 Knoxville TN 37934\Location:\nOld National Bank\n10820 Kingston Pike Suite 14 \nKnoxville, TN 37934
X-ALT-DESC;FMTTYPE=text/html:CANCELD due to weather -Turkey Creek REO 8:30am @ Old National Bank<br /><br />02/02/26 08:30 AM EST - 02/02/26 09:30 AM EST<br />Description:<br />CANCELD due to weather -Weekly meeting at OLD National Bank 10820 Kingston Pike Suite 14 Knoxville&nbsp;TN 37934<br />Location:<br />Old National Bank<br />10820 Kingston Pike Suite 14 <br />Knoxville, TN 37934
PRIORITY:3
TRANSP:TRANSPARENT
BEGIN:VALARM
TRIGGER:-PT5M
ACTION:DISPLAY
DESCRIPTION:Reminder
END:VALARM
END:VEVENT
END:VCALENDAR
