BEGIN:VCALENDAR
VERSION:2.0
CALSCALE:GREGORIAN
METHOD:PUBLISH
PRODID://REOL//48641
BEGIN:VEVENT
DTSTAMP:20260420T230714
VTIMEZONE:America/New_York
DTSTART:20260126T133000Z
DTEND:20260126T143000Z
UID:48641
SUMMARY:CANCELD DUE TO WEATHER Turkey Creek REO 8:30am @ Old National Bank
LOCATION:CANCELD DUE TO WEATHER  Old National Bank, 10820 Kingston Pike Suite 14 , Knoxville, TN, 37934
DESCRIPTION:CANCELD DUE TO WEATHER Turkey Creek REO 8:30am @ Old National Bank\n\n01/26/26 08:30 AM EST\n - 01/26/26 09:30 AM EST\Description:\nCANCELD DUE TO WEATHER  Weekly meeting at OLD National Bank 10820 Kingston Pike Suite 14 Knoxville TN 37934\Location:\nCANCELD DUE TO WEATHER  Old National Bank\n10820 Kingston Pike Suite 14 \nKnoxville, TN 37934
X-ALT-DESC;FMTTYPE=text/html:CANCELD DUE TO WEATHER Turkey Creek REO 8:30am @ Old National Bank<br /><br />01/26/26 08:30 AM EST - 01/26/26 09:30 AM EST<br />Description:<br />CANCELD DUE TO WEATHER&nbsp; Weekly meeting at OLD National Bank 10820 Kingston Pike Suite 14 Knoxville&nbsp;TN 37934<br />Location:<br />CANCELD DUE TO WEATHER  Old National Bank<br />10820 Kingston Pike Suite 14 <br />Knoxville, TN 37934
PRIORITY:3
TRANSP:TRANSPARENT
BEGIN:VALARM
TRIGGER:-PT5M
ACTION:DISPLAY
DESCRIPTION:Reminder
END:VALARM
END:VEVENT
END:VCALENDAR
