BEGIN:VCALENDAR
VERSION:2.0
CALSCALE:GREGORIAN
METHOD:PUBLISH
PRODID://REOL//48602
BEGIN:VEVENT
DTSTAMP:20260420T143007
VTIMEZONE:America/New_York
DTSTART:20260424T120000Z
DTEND:20260424T133000Z
UID:48602
SUMMARY:PIN REO Team Meeting 8:00am - 9:30am
LOCATION:Cedar Springs Presbyterian Church , 9132 Kingston Pike, Knoxville , TN, 37923
DESCRIPTION:PIN REO Team Meeting 8:00am - 9:30am\n\n04/24/26 08:00 AM EST\n - 04/24/26 09:30 AM EST\Description:\nPartners In Networking Weekly Meeting - IN PERSON\n8:00 am -9:30 am\Location:\nCedar Springs Presbyterian Church \n9132 Kingston Pike\nKnoxville , TN 37923
X-ALT-DESC;FMTTYPE=text/html:PIN REO Team Meeting 8:00am - 9:30am<br /><br />04/24/26 08:00 AM EST - 04/24/26 09:30 AM EST<br />Description:<br />Partners In Networking Weekly Meeting - <u><strong>IN PERSON<br />
8:00 am -9:30 am</strong></u><br />Location:<br />Cedar Springs Presbyterian Church <br />9132 Kingston Pike<br />Knoxville , TN 37923
PRIORITY:3
TRANSP:TRANSPARENT
BEGIN:VALARM
TRIGGER:-PT5M
ACTION:DISPLAY
DESCRIPTION:Reminder
END:VALARM
END:VEVENT
END:VCALENDAR
