BEGIN:VCALENDAR
VERSION:2.0
CALSCALE:GREGORIAN
METHOD:PUBLISH
PRODID://REOL//48530
BEGIN:VEVENT
DTSTAMP:20260420T181608
VTIMEZONE:America/New_York
DTSTART:20260216T133000Z
DTEND:20260216T143000Z
UID:48530
SUMMARY:Turkey Creek REO 8:30am @ First Watch by Costco
LOCATION:First Watch bycostco, 111Lovell Rd, Knoxville, TN, 37934
DESCRIPTION:Turkey Creek REO 8:30am @ First Watch by Costco\n\n02/16/26 08:30 AM EST\n - 02/16/26 09:30 AM EST\Description:\nWeekly meeting at First Watch by Costco 111 Lovell Rd, Knoxville, TN 37934\Location:\nFirst Watch bycostco\n111Lovell Rd\nKnoxville, TN 37934
X-ALT-DESC;FMTTYPE=text/html:Turkey Creek REO 8:30am @ First Watch by Costco<br /><br />02/16/26 08:30 AM EST - 02/16/26 09:30 AM EST<br />Description:<br />Weekly meeting at First Watch by Costco&nbsp;111 Lovell Rd, Knoxville, TN 37934<br />Location:<br />First Watch bycostco<br />111Lovell Rd<br />Knoxville, TN 37934
PRIORITY:3
TRANSP:TRANSPARENT
BEGIN:VALARM
TRIGGER:-PT5M
ACTION:DISPLAY
DESCRIPTION:Reminder
END:VALARM
END:VEVENT
END:VCALENDAR
