BEGIN:VCALENDAR
VERSION:2.0
CALSCALE:GREGORIAN
METHOD:PUBLISH
PRODID://SIBO//48443
BEGIN:VEVENT
DTSTAMP:20260424T073437
VTIMEZONE:America/Los_Angeles
DTSTART:20260128T013000Z
DTEND:20260128T030000Z
UID:48443
SUMMARY:FREE online webinars for cattle producers 
LOCATION:, CA
DESCRIPTION:FREE online webinars for cattle producers \n\n01/27/26 05:30 PM PST\n - 01/27/26 07:00 PM PST\Description:\nUC Cooperative Extension and UC Davis School of Veterinary Medicine are excited to offer a series of FREE online webinars for cattle producers. Every Tuesday evening in January from 5:30-7:00 pm we will have guest speakers presenting with a question-and-answer session, covering topics important to cattle health and management.  The sessions will be live and will include lots of visuals.\n\nJanuary 27, 2026 – Treating Abscesses & Open Wounds with Meera C. Heller DVM, PhD, DACVIM, Professor of Clinical Livestock Medicine, UC Davis School of Veterinary Medicine.\n\n  Please register for one or all sessions for FREE by visiting - https://forms.gle/1AiVkUuRiUB6cYcX6 For questions or assistance please contact co-host Tracy Schohr, UC Cooperative Extension Livestock and Natural Resources Advisor for Plumas, Sierra and Butte Counties at tkschohr@ucanr.edu or 916-716-2643.
X-ALT-DESC;FMTTYPE=text/html:FREE online webinars for cattle producers <br /><br />01/27/26 05:30 PM PST - 01/27/26 07:00 PM PST<br />Description:<br />UC Cooperative Extension and UC Davis School of Veterinary Medicine are excited to offer a series of FREE online webinars for cattle producers. Every Tuesday evening in January from 5:30-7:00 pm we will have guest speakers presenting with a question-and-answer session, covering topics important to cattle health and management. &nbsp;The sessions will be live and will include lots of visuals.<br />
<br />
January 27, 2026 &ndash; Treating Abscesses &amp; Open Wounds with Meera C. Heller DVM, PhD, DACVIM, Professor of Clinical Livestock Medicine, UC Davis School of Veterinary Medicine.<br />
<br />
&nbsp; Please register for one or all sessions for FREE by visiting - https://forms.gle/1AiVkUuRiUB6cYcX6 For questions or assistance please contact co-host Tracy Schohr, UC Cooperative Extension Livestock and Natural Resources Advisor for Plumas, Sierra and Butte Counties at tkschohr@ucanr.edu or 916-716-2643.
PRIORITY:3
TRANSP:TRANSPARENT
BEGIN:VALARM
TRIGGER:-PT5M
ACTION:DISPLAY
DESCRIPTION:Reminder
END:VALARM
END:VEVENT
END:VCALENDAR
