BEGIN:VCALENDAR
VERSION:2.0
CALSCALE:GREGORIAN
METHOD:PUBLISH
PRODID://SIBO//48140
BEGIN:VEVENT
DTSTAMP:20260424T121825
VTIMEZONE:America/Los_Angeles
DTSTART:20251220T010000Z
DTEND:20251220T030000Z
UID:48140
SUMMARY:Christmas Caroling â€“ December 19th, 5 PM
LOCATION:, CA
DESCRIPTION:Christmas Caroling â€“ December 19th, 5 PM\n\n12/19/25 05:00 PM PST\n - 12/19/25 07:00 PM PST\Description:\nSponsored by Rotary Club of Loyalton: Warm up your vocal cords and meet us for a heartwarming evening of Christmas caroling around town. Whether you can carry a tune or just carry the cocoa, everyone’s welcome. It’s one of our favorite Rotary traditions and a wonderful way to spread joy in the community. More details to be sent via text.\n
X-ALT-DESC;FMTTYPE=text/html:Christmas Caroling â€“ December 19th, 5 PM<br /><br />12/19/25 05:00 PM PST - 12/19/25 07:00 PM PST<br />Description:<br /><h3>Sponsored by Rotary Club of Loyalton: Warm up your vocal cords and meet us for a heartwarming evening of&nbsp;<strong>Christmas caroling</strong>&nbsp;around town. Whether you can carry a tune or just carry the cocoa, everyone&rsquo;s welcome. It&rsquo;s one of our favorite Rotary traditions and a wonderful way to spread joy in the community. More details to be sent via text.</h3>

PRIORITY:3
TRANSP:TRANSPARENT
BEGIN:VALARM
TRIGGER:-PT5M
ACTION:DISPLAY
DESCRIPTION:Reminder
END:VALARM
END:VEVENT
END:VCALENDAR
