BEGIN:VCALENDAR
VERSION:2.0
CALSCALE:GREGORIAN
METHOD:PUBLISH
PRODID://SIBO//48139
BEGIN:VEVENT
DTSTAMP:20260424T142954
VTIMEZONE:America/Los_Angeles
DTSTART:20251201T010000Z
DTEND:20251207T050000Z
UID:48139
SUMMARY:Christmas Lights Contest â€“ November 30th to December 6th
LOCATION:, CA
DESCRIPTION:Christmas Lights Contest â€“ November 30th to December 6th\n\n11/30/25 05:00 PM PST\n - 12/06/25 09:00 PM PST\Description:\nGet ready to light up Loyalton and Sierra Brooks!\nDecorate your home or business and help spread holiday joy across the valley. Judging will take place between Nov. 30 – Dec. 6, and the winner will be announced during the Christmas Tree Lighting on Dec. 6.\nSo dust off those extension cords and let your inner Clark Griswold shine!\n
X-ALT-DESC;FMTTYPE=text/html:Christmas Lights Contest â€“ November 30th to December 6th<br /><br />11/30/25 05:00 PM PST - 12/06/25 09:00 PM PST<br />Description:<br /><h3>Get ready to&nbsp;<em>light up Loyalton&nbsp;and Sierra Brooks!</em><br />
Decorate your home or business and help spread holiday joy across the valley. Judging will take place between&nbsp;<strong>Nov. 30 &ndash; Dec. 6</strong>, and the&nbsp;<strong>winner will be announced during the Christmas Tree Lighting</strong>&nbsp;on Dec. 6.<br />
So dust off those extension cords and let your inner Clark Griswold shine!</h3>

PRIORITY:3
TRANSP:TRANSPARENT
BEGIN:VALARM
TRIGGER:-PT5M
ACTION:DISPLAY
DESCRIPTION:Reminder
END:VALARM
END:VEVENT
END:VCALENDAR
