BEGIN:VCALENDAR
VERSION:2.0
CALSCALE:GREGORIAN
METHOD:PUBLISH
PRODID://SIBO//48090
BEGIN:VEVENT
DTSTAMP:20260424T123732
VTIMEZONE:America/Los_Angeles
DTSTART:20251206T000000Z
DTEND:20251206T040000Z
UID:48090
SUMMARY:CHRISTMAS IN OLD TOWN PORTOLA
LOCATION:, CA
DESCRIPTION:CHRISTMAS IN OLD TOWN PORTOLA\n\n12/05/25 04:00 PM PST\n - 12/05/25 08:00 PM PST\Description:\n4-8 pm at Caboose Parking lot on Commercial Street\nSanta & Mrs. Claus, parade of lights, tree lighting, bonfire, caroling, food & more!
X-ALT-DESC;FMTTYPE=text/html:CHRISTMAS IN OLD TOWN PORTOLA<br /><br />12/05/25 04:00 PM PST - 12/05/25 08:00 PM PST<br />Description:<br />4-8 pm at Caboose Parking lot on Commercial Street<br />
Santa &amp; Mrs. Claus, parade of lights, tree lighting, bonfire, caroling, food &amp; more!
PRIORITY:3
TRANSP:TRANSPARENT
BEGIN:VALARM
TRIGGER:-PT5M
ACTION:DISPLAY
DESCRIPTION:Reminder
END:VALARM
END:VEVENT
END:VCALENDAR
