BEGIN:VCALENDAR
VERSION:2.0
CALSCALE:GREGORIAN
METHOD:PUBLISH
PRODID://SIBO//48089
BEGIN:VEVENT
DTSTAMP:20260424T160000
VTIMEZONE:America/Los_Angeles
DTSTART:20251117T010000Z
DTEND:20251117T050000Z
UID:48089
SUMMARY:MILITARY COOKIE PACKING EVENT
LOCATION:, CA
DESCRIPTION:MILITARY COOKIE PACKING EVENT\n\n11/16/25 05:00 PM PST\n - 11/16/25 09:00 PM PST\Description:\nCommunity Church of Loyalton hosts volunteers to lovingly pack cookies for active service members.\nSoup served 5-6 p.m.\n\nhaytherejane@psln.com or (530) 249-4036
X-ALT-DESC;FMTTYPE=text/html:MILITARY COOKIE PACKING EVENT<br /><br />11/16/25 05:00 PM PST - 11/16/25 09:00 PM PST<br />Description:<br />Community Church of Loyalton hosts volunteers to lovingly pack cookies for active service members.<br />
Soup served 5-6 p.m.<br />
<br />
haytherejane@psln.com or (530) 249-4036
PRIORITY:3
TRANSP:TRANSPARENT
BEGIN:VALARM
TRIGGER:-PT5M
ACTION:DISPLAY
DESCRIPTION:Reminder
END:VALARM
END:VEVENT
END:VCALENDAR
