BEGIN:VCALENDAR
VERSION:2.0
CALSCALE:GREGORIAN
METHOD:PUBLISH
PRODID://SIBO//48088
BEGIN:VEVENT
DTSTAMP:20260424T104315
VTIMEZONE:America/Los_Angeles
DTSTART:20251206T180000Z
DTEND:20251206T200000Z
UID:48088
SUMMARY:VETERAN HOLIDAY MEET & GREET
LOCATION:, CA
DESCRIPTION:VETERAN HOLIDAY MEET & GREET\n\n12/06/25 10:00 AM PST\n - 12/06/25 12:00 PM PST\Description:\nSierraville School\nSaturday, December 6, 2025\n10:00 a.m. – 12:00 p.m.\nPlease call to RSVP by November 21st for the Sierraville event\n\nSierra County Veteran's Services Holiday Meet & Greet - Hosted by Sierra County Veteran's Services Office, a division of Behavioral Health.\n \nVeterans, service members, and their families are invited to the Veteran's Meet & Greet to learn about benefits, get help with claims, and connect with local resources. Lunch will be provided at both events.
X-ALT-DESC;FMTTYPE=text/html:VETERAN HOLIDAY MEET & GREET<br /><br />12/06/25 10:00 AM PST - 12/06/25 12:00 PM PST<br />Description:<br />Sierraville School<br />
Saturday, December 6, 2025<br />
10:00 a.m. &ndash; 12:00 p.m.<br />
Please call to RSVP by November 21st for the Sierraville event<br />
<br />
Sierra County Veteran's Services Holiday Meet &amp; Greet - Hosted by Sierra County Veteran's Services Office, a division of Behavioral Health.<br />
&nbsp;<br />
Veterans, service members, and their families are invited to the Veteran's Meet &amp; Greet to learn about benefits, get help with claims, and connect with local resources. Lunch will be provided at both events.
PRIORITY:3
TRANSP:TRANSPARENT
BEGIN:VALARM
TRIGGER:-PT5M
ACTION:DISPLAY
DESCRIPTION:Reminder
END:VALARM
END:VEVENT
END:VCALENDAR
