BEGIN:VCALENDAR
VERSION:2.0
CALSCALE:GREGORIAN
METHOD:PUBLISH
PRODID://SIBO//48084
BEGIN:VEVENT
DTSTAMP:20260424T123236
VTIMEZONE:America/Los_Angeles
DTSTART:20251206T170000Z
DTEND:20251206T230000Z
UID:48084
SUMMARY:24th annual CHRISTMAS CRAFTS FAIR
LOCATION:LOYALTON ASSEMBLY OF GOD HALL, MAIN STREET, LOYALTON, CA
DESCRIPTION:24th annual CHRISTMAS CRAFTS FAIR\n\n12/06/25 09:00 AM PST\n - 12/06/25 03:00 PM PST\Description:\nTWO FLOORS OF HANDCRAFTS FOR GIFTS. LUNCH AT NOON.\n\n	\n	The craft fair is nearly sold out. Additional vendors will be placed along Main Street. The committee is arranging for carriage rides, and the Sierra Valley Bar & Grill may open that night; backup food options are in place.\n	\n\n\Location:\nLOYALTON ASSEMBLY OF GOD HALL\nMAIN STREET\nLOYALTON, CA
X-ALT-DESC;FMTTYPE=text/html:24th annual CHRISTMAS CRAFTS FAIR<br /><br />12/06/25 09:00 AM PST - 12/06/25 03:00 PM PST<br />Description:<br />TWO FLOORS OF HANDCRAFTS FOR GIFTS. LUNCH AT NOON.
<ul>
	<li>
	<p>The craft fair is nearly sold out. Additional vendors will be placed along Main Street. The committee is arranging for carriage rides, and the Sierra Valley Bar &amp; Grill may open that night; backup food options are in place.</p>
	</li>
</ul>
<br />Location:<br />LOYALTON ASSEMBLY OF GOD HALL<br />MAIN STREET<br />LOYALTON, CA 
PRIORITY:3
TRANSP:TRANSPARENT
BEGIN:VALARM
TRIGGER:-PT5M
ACTION:DISPLAY
DESCRIPTION:Reminder
END:VALARM
END:VEVENT
END:VCALENDAR
