BEGIN:VCALENDAR
VERSION:2.0
CALSCALE:GREGORIAN
METHOD:PUBLISH
PRODID://SIBO//48083
BEGIN:VEVENT
DTSTAMP:20260424T122939
VTIMEZONE:America/Los_Angeles
DTSTART:20251207T010000Z
DTEND:20251207T050000Z
UID:48083
SUMMARY:LOYALTON'S COMMUNITY TREE LIGHTING
LOCATION:, CA
DESCRIPTION:LOYALTON'S COMMUNITY TREE LIGHTING\n\n12/06/25 05:00 PM PST\n - 12/06/25 09:00 PM PST\Description:\nSanta arrives on the fire truck, hands out candy canes and joins kids for rides!  Rotary serves hot cider & chocolate with homemade cookies.  Christmas carols around the bonfire. Light parade follows!
X-ALT-DESC;FMTTYPE=text/html:LOYALTON'S COMMUNITY TREE LIGHTING<br /><br />12/06/25 05:00 PM PST - 12/06/25 09:00 PM PST<br />Description:<br />Santa arrives on the fire truck, hands out candy canes and joins kids for rides!&nbsp; Rotary serves hot cider &amp; chocolate with homemade cookies.&nbsp; Christmas carols around the bonfire. Light parade follows!
PRIORITY:3
TRANSP:TRANSPARENT
BEGIN:VALARM
TRIGGER:-PT5M
ACTION:DISPLAY
DESCRIPTION:Reminder
END:VALARM
END:VEVENT
END:VCALENDAR
