BEGIN:VCALENDAR
VERSION:2.0
CALSCALE:GREGORIAN
METHOD:PUBLISH
PRODID://SIBO//48079
BEGIN:VEVENT
DTSTAMP:20260424T104952
VTIMEZONE:America/Los_Angeles
DTSTART:20251206T180000Z
DTEND:20251206T230000Z
UID:48079
SUMMARY:CHRISTMAS ON MAIN STREET, LOYALTON
LOCATION:, CA
DESCRIPTION:CHRISTMAS ON MAIN STREET, LOYALTON\n\n12/06/25 10:00 AM PST\n - 12/06/25 03:00 PM PST\Description:\nSip & stroll thrugh a festive downtown. Christmas Market at Sierra Valley Home and Lombardi Mercantile\nLoyalton Thrift Store and Library will be open!\nTreasure hunt with grand prize!\nLighting contest and Light parade after Santa arrives!\nContact:  jmcamp55@gmail.com
X-ALT-DESC;FMTTYPE=text/html:CHRISTMAS ON MAIN STREET, LOYALTON<br /><br />12/06/25 10:00 AM PST - 12/06/25 03:00 PM PST<br />Description:<br />Sip &amp; stroll thrugh a festive downtown. Christmas Market at Sierra Valley Home and Lombardi Mercantile<br />
Loyalton Thrift Store and Library will be open!<br />
Treasure hunt with grand prize!<br />
Lighting contest and Light parade after Santa arrives!<br />
Contact:&nbsp; jmcamp55@gmail.com
PRIORITY:3
TRANSP:TRANSPARENT
BEGIN:VALARM
TRIGGER:-PT5M
ACTION:DISPLAY
DESCRIPTION:Reminder
END:VALARM
END:VEVENT
END:VCALENDAR
