BEGIN:VCALENDAR
VERSION:2.0
CALSCALE:GREGORIAN
METHOD:PUBLISH
PRODID://SIBO//48076
BEGIN:VEVENT
DTSTAMP:20260424T104041
VTIMEZONE:America/Los_Angeles
DTSTART:20251201T180000Z
DTEND:20251201T230000Z
UID:48076
SUMMARY:DOWNIEVILLE'S HOLIDAY ON MAIN
LOCATION:, CA
DESCRIPTION:DOWNIEVILLE'S HOLIDAY ON MAIN\n\n12/01/25 10:00 AM PST\n - 12/01/25 03:00 PM PST\Description:\nTree lighting, Santa, Christmas carols and ighting parade to follow
X-ALT-DESC;FMTTYPE=text/html:DOWNIEVILLE'S HOLIDAY ON MAIN<br /><br />12/01/25 10:00 AM PST - 12/01/25 03:00 PM PST<br />Description:<br />Tree lighting, Santa, Christmas carols and ighting parade to follow
PRIORITY:3
TRANSP:TRANSPARENT
BEGIN:VALARM
TRIGGER:-PT5M
ACTION:DISPLAY
DESCRIPTION:Reminder
END:VALARM
END:VEVENT
END:VCALENDAR
