BEGIN:VCALENDAR
VERSION:2.0
CALSCALE:GREGORIAN
METHOD:PUBLISH
PRODID://REOL//47841
BEGIN:VEVENT
DTSTAMP:20260421T010152
VTIMEZONE:America/New_York
DTSTART:20251202T230000Z
DTEND:20251203T013000Z
UID:47841
SUMMARY:PIN REO Holiday Party 
LOCATION:The Club at Gettysvue, 9317 Linksvue Drive, Knoxville, TN, 37922
DESCRIPTION:PIN REO Holiday Party \n\n12/02/25 06:00 PM EST\n - 12/02/25 08:30 PM EST\Description:\nIt's the most wonderful time of the year! You and your plus one are invited to ring in the new year as we cheers to the old! Dinner will be provided. Cash bar is available. \Location:\nThe Club at Gettysvue\n9317 Linksvue Drive\nKnoxville, TN 37922
X-ALT-DESC;FMTTYPE=text/html:PIN REO Holiday Party <br /><br />12/02/25 06:00 PM EST - 12/02/25 08:30 PM EST<br />Description:<br />It's the most wonderful time of the year! You and your plus one are invited to ring in the new year as we cheers to the old! Dinner will be provided. Cash bar is available.&nbsp;<br />Location:<br />The Club at Gettysvue<br />9317 Linksvue Drive<br />Knoxville, TN 37922
PRIORITY:3
TRANSP:TRANSPARENT
BEGIN:VALARM
TRIGGER:-PT5M
ACTION:DISPLAY
DESCRIPTION:Reminder
END:VALARM
END:VEVENT
END:VCALENDAR
