BEGIN:VCALENDAR
VERSION:2.0
CALSCALE:GREGORIAN
METHOD:PUBLISH
PRODID://REOL//47836
BEGIN:VEVENT
DTSTAMP:20260421T023124
VTIMEZONE:America/New_York
DTSTART:20251031T120000Z
DTEND:20251031T133000Z
UID:47836
SUMMARY:PIN REO Halloween Breakfast
LOCATION:Cracker Barrel, 9214 Park West Blvd, Knoxville, TN, 37923
DESCRIPTION:PIN REO Halloween Breakfast\n\n10/31/25 08:00 AM EST\n - 10/31/25 09:30 AM EST\Description:\nHalloween Breakfast at Cracker Barrel. Dress up in your favorite costume and join us for our annual Halloween extravaganza!\Location:\nCracker Barrel\n9214 Park West Blvd\nKnoxville, TN 37923
X-ALT-DESC;FMTTYPE=text/html:PIN REO Halloween Breakfast<br /><br />10/31/25 08:00 AM EST - 10/31/25 09:30 AM EST<br />Description:<br />Halloween Breakfast at Cracker Barrel. Dress up in your favorite costume and join us for our annual Halloween extravaganza!<br />Location:<br />Cracker Barrel<br />9214 Park West Blvd<br />Knoxville, TN 37923
PRIORITY:3
TRANSP:TRANSPARENT
BEGIN:VALARM
TRIGGER:-PT5M
ACTION:DISPLAY
DESCRIPTION:Reminder
END:VALARM
END:VEVENT
END:VCALENDAR
