BEGIN:VCALENDAR
VERSION:2.0
CALSCALE:GREGORIAN
METHOD:PUBLISH
PRODID://REOL//33767
BEGIN:VEVENT
DTSTAMP:20260422T013043
VTIMEZONE:America/New_York
DTSTART:20210630T193000Z
DTEND:20210630T210000Z
UID:33767
SUMMARY:Business Builders REO IN PERSON Meeting
LOCATION:Davis Studio, 315 S. Mohican Street, Knoxville, TN, 37919
DESCRIPTION:Business Builders REO IN PERSON Meeting\n\n06/30/21 03:30 PM EST\n - 06/30/21 05:00 PM EST\Location:\nDavis Studio\n315 S. Mohican Street\nKnoxville, TN 37919
X-ALT-DESC;FMTTYPE=text/html:Business Builders REO IN PERSON Meeting<br /><br />06/30/21 03:30 PM EST - 06/30/21 05:00 PM EST<br />Location:<br />Davis Studio<br />315 S. Mohican Street<br />Knoxville, TN 37919
PRIORITY:3
TRANSP:TRANSPARENT
BEGIN:VALARM
TRIGGER:-PT5M
ACTION:DISPLAY
DESCRIPTION:Reminder
END:VALARM
END:VEVENT
END:VCALENDAR
